Workbook
Name CCP: [1]Lists!$B$1:$B$4
Name DOCWORK_DOC_APPR: '1. Summary Page'!$C$20
Name DOCWORK_DOC_APPR: #REF!
Name DOCWORK_DOC_AUTHOR: '1. Summary Page'!$C$19
Name DOCWORK_DOC_AUTHOR: #REF!
Name DOCWORK_DOC_FINAL_APPR: '1. Summary Page'!$C$21
Name DOCWORK_DOC_FINAL_APPR: #REF!
Name ETQEFFECTIVE_DATE: '1. Summary Page'!$C$22
Name ETQEFFECTIVE_DATE: #REF!
Name Impact: [1]Lists!$A$1:$A$6

Sheet 1. Summary Page
F1: FMEA Template
A2: Parent document: Failure Mode and Effects Analysis (FMEA) | O2: FMEA type dropdown | P2: Yes/No dropdown | Q2: - N/A
A3: Purpose of FMEA* | D3: To capture all issues, risks and related mitigation strategies for the RHD NIPT Project | O3: Process | P3: Yes
A4: Type of FMEA* | D4: Process | E4: If 'Other' - specify: | O4: IVD | P4: No
A5: Scope of FMEA* (including start and end points) | D5: RHD NIPT and Associated Pregnancy Care Pathways and Processes | O5: Other
A6: FMEA contributors* (including roles) | D6: David Roxby (Project Manager) Kristen Brown (Project Officer)
A8: Attachments / evidence | D8: N/A
A10: Recommended Actions Summary (can be used to populate any associated Change Control record)
A11: Process Step / Risk ID | D11: Recommended Actions | E11: Assigned to | F11: Due Date
A12: 4 | D12: Remain Flagged as External Support Required
A13: 6 | D13: Remain Flagged as External Support Required
A14: 19 | D14: Remain Flagged as External Support Required
A18: FMEA Electronic Approval
A19: Author | C19: Kristen Brown and David Roxby
A20: Approver(s) | C20: Philip Crispin
A21: Final Approver | C21: Steering Committee
A22: Approval Date | C22: 45120

Sheet 2. Process Map
A1: Date process mapped* | B1: 13-14 June 2023
A2: Participants* | B2: David Roxby, Kristen Brown
A3: Scope* | B3: RHD NIPT test and Associated Pregnancy Care
A5: Process Map
A6: Inputs* (Environment, equipment, human, measurements, method, materials) | C6: Process step* (Basic description) | E6: Outputs / output characteristics / key requirements (What are the outcomes, key requirements or output characteristics for this step?)
A7: Human | C7: 1 | D7: Women presents for antenatal appointment to confirm pregnancy | E7: Usually GP before 12 weeks gestation
A8: Human and or Software | C8: 2 | D8: Antenatal bloods request form completed which include group and screen | E8: Must be correct form and contain requestor details
A9: Human and or Software | C9: 3 | D9: Attends for test | E9: Private or public pathology
A10: Software - electronically May be manual (fax, email etc) | C10: 4 | D10: Test reported | E10: May be directly resulted back to the requestor if software installed
A11: Human and Method | C11: 5 | D11: Woman identified as RhD negative woman | E11: Includes only women who are RhD negative, no antibodies and not a weak D or variant D
A12: Human | C12: 6 | D12: Woman follows up clinical care provider | E12: This may be the initial care provider or another
A13: Human and Materials | C13: 7 | D13: Information provision RHD NIPT Testing | E13: RHD negative women with no antibodies provided information on available options and risks/benefits of each May or may not choose recommended care - may decline RHD NIPT
A14: Human and or Software | C14: 8 | D14: Request Form RHD NIPT | E14: Must be collected between 12-24 weeks Must be on form approved by RHD NIPT Test provider Weak or variant D may require referral for RHD NIPA through the Red cell reference Lab
A15: Human | C15: 9 | D15: Women attends collection point for sample collection and Sample collected according to sample requirements | E15: Must be a location that provides collection for RHD NIPT May have days for collection to enable transport to processing centre etc. Will need to have knowledge of RHD NIPT test requirements Form, Tube, Patient identification and labelling requirements EDD >12 weeks, correct tube - dedicated to test Must be in correct order of draw
A16: Human | C16: 10 | D16: Sample sent to specimen reception | E16: May require transport to lab Must be in accordance with provider needs and NPAAC
A17: Human and Software | C17: 11 | D17: Registered in LIS using RHD NIPT test code | E17: Requires test code to be entered into the system which is unique to to the RHD NIPT
A18: Human and Transportation methods | C18: 12 | D18: Sent to processing centre | E18: This may or may not be the first laboratory the sample arrives at. It may need to be transferred from another (referring Lab).
... A25: Human and Method for collection of sample | C25: 19 | D25: Testing of Cord Blood Sample collected to validate RHD NIPT test result | E25: Correct collection process followed, including the correct labelling to confirm identity of the cord blood samples Correct ABO/RhD testing of the cord blood sample

Sheet 3a. Process FMEA
A2: Process FMEA | P2: Risk Mitigation Plan* | T2: Residual Risk Evaluation*
A3: Inputs* (from 2. Process Map) | B3: Step ID* (from 2. Process Map) | C3: Process step* (from 2. Process Map) | D3: Outputs / output characteristics / key requirements (from 2. Process Map) | E3: GxP impact?* (Impact to patient safety, donor safety and/or product quality?) | F3: Potential failure mode * (What went wrong or could go wrong? Note: This is not the root cause) | G3: Potential failure effects* (Consequences of the failure mode) | H3: Severity (S)* (see Appendix - Risk Definitions) 8-10 = mandatory action required | I3: Potential root causes* (Why did it or could it happen? Use root cause analysis tools e.g. 5 Whys, Fishbone. Note: There could be multiple root causes for a single failure mode) | J3: Occurrence (O)* (see Appendix - Risk Definitions) 1-2 = evidence required | K3: Current process controls (Prevention) (What controls exist today to prevent this from happening? e.g. documents, preventative maintenance, system controls) | L3: Current process controls (Detection) (How do we/could we identify the failure before it happens?) | M3: Detection (D)* (see Appendix - Risk Definitions) | N3: Risk Priority Number (RPN)* (S × O × D) | O3: Risk acceptable?* | P3: Recommended action(s)* (If actions are recorded elsewhere, provide a reference here) | Q3: Assigned to | R3: Due Date | S3: Action taken | T3: Severity (S) AFTER action* | U3: Occurrence (O) AFTER action* | V3: Detection (D) AFTER action* | W3: Final RPN* (S x O x D) | X3: Risk after action acceptable?* | Y3: Further actions/Mitigation (mandatory if Risk after action acceptable? = No)
A4: ='2. Process Map'!A7:B7 -> Human | B4: 1 | C4: ='2. Process Map'!D7 -> Women presents for antenatal appointment to confirm pregnancy | D4: ='2. Process Map'!E7 -> Usually GP before 12 weeks gestation | E4: Yes | F4: Women presents late, women does not present for antenatal care, sensitising event or miscarriage. Women does present and has clinically significant antibodies | G4: Bloods not attended and blood group and antibody screen unknown Woman may develop anti-D antibodies if late presentation in pregnancy May limit ability to complete the RHD NIPT testing if the blood group and antibody screen has not been completed HDFN Will not have the full benefit of the RHD NIPT and directed RhD Ig therapy | H4: 6 | I4: Concealed pregnancy Financially unable to attend medical appointments Busy centre and delay in appointment availability Assumed miscarriage Social issues preventing attendance Refugee or CALD background and unsure how to access pregnancy care Cultural - some cultures do not seek formal antenatal care and care is provided by women within their community | J4: 3 | K4: Services to assist with social and economic hardship Liaison and organisations to assist CALD/Refugee and socioeconomic hardship. GPs that bulk-bill Education promoting importance of routine early antenatal care Support services ensuring women with vulnerabilities such as drug dependence attend antenatal care appointments Promote awareness of the importance of recommended pregnancy care and early antenatal care (1st trimester). | L4: Support services ensuring women with vulnerabilities such as drug dependence attend antenatal care appointments Early engagement with women with vulnerabilities and early support to access antenatal care | M4: 3 | N4: =H4*J4*M4 -> 54 | O4: Yes | P4: Ensure pathways incorporate management options for an RhD woman presenting late with no blood group and antibody screen, RhD Ig should be recommened and if antibodies detected referral for monitoring of anti-d antibodies Work with organisations able to assist with identifying, and developing meaningful resources for at risk groups. This includes Aboriginal women, refugees and women with a NESB. | Q4: SC | R4: 45231 | S4: Engagement with CALD and Aboriginal and TSI health services to ensure meaningful resources available Incorporating late blood group and antibody screen into the RHD NIPT flow pathways and resources to support clinicians in optimising management | T4: 6 | U4: 3 | V4: 3 | W4: =T4*U4*V4 -> 54 | X4: Yes
A5: ='2. Process Map'!A8:B8 -> Human and or Software | B5: 2 | C5: ='2. Process Map'!D8 -> Antenatal bloods request form completed which include group and screen | D5: ='2. Process Map'!E8 -> Must be correct form and contain requestor details | E5: Yes | F5: Incorrect blood test requested, missing requestor details, incorrect patient details entered Patient not given request which include a blood group and antibody screen May be a form that is not accepted by the pathology service Form may be lost | G5: Blood test unable to be completed. May require woman to reattend for another form and test. Test may be missed until a later gestation and may delay RHD NIPT request if required Woman may decline further follow up for blood group and antibody screen | H5: 3 | I5: Unfamiliar form, Requestor busy and did not complete form correctly. Patient details may be incorrectly entered into the requesting clinical care provider system if automated Some pathology services may not accept certain requests i.e. midwife request | J5: 2 | K5: Already processes in place including test guides and SOPs training etc Many care pathways include the blood tests required including a blood group and antibody screen Pathology requests frequently printed from many eMR systems to reduce potential of patient detail transcribing errors. Some services may offer pathology onsite to reduce the need to attend multiple locations and appointments | L5: As per previous Women usually attend 2 early antenatal appointments prior to 20 weeks gestation where this would be likely flagged | M5: 2 | N5: =H5*J5*M5 -> 12 | O5: Yes | P5: Promoting the blood group and antibody screen as an important precursor step to the RHD NIPT Pregnancy care process in the flow pathways for RHD NIPT | Q5: SC | R5: 45231 | S5: Interactive flow pathway includes blood test for blood group and antibody screen and management variation following the results which includes weak D, variant D and antibodies | T5: 3 | U5: 2 | V5: 2 | W5: =T5*U5*V5 -> 12 | X5: Yes
A6: ='2. Process Map'!A9:B9 -> Human and or Software | B6: 3 | C6: ='2. Process Map'!D9 -> Attends for test | D6: ='2. Process Map'!E9 -> Private or public pathology | E6: Yes | F6: Woman may not follow up, test may be completed incorrectly, women may present late Insufficient sample or sample haemolysed, incorrect tube May be incorrect sample/details | G6: Incorrect result, antibody and blood group may remain unknown and prevent potential for RHD NIPT test if indicated Woman may become sensitised if does not follow up prior to 28 weeks and is RhD neg with RhD positive fetus. Woman may need to attend for another blood test increasing cost and nuance to the woman. Rejection of sample or results cannot be provided | H6: 4 | I6: Incorrect patient details on form or sample Woman may not have capacity to follow up, financial, health issues, unable to attend for test. Patient identification not checked correctly Testing centre may be busy and protocol for identity check may be missed | J6: 2 | K6: Clinical provider may identify and follow up with woman if considered at risk or no result for test requested Referral to support services to assist with antenatal attendance patient identification checking processes Collection by dedicated phlebotomist with training Training for clinicians provided who may be collecting samples | L6: Double checking patient details Double checking patient details in system which may automate request forms Some medical ordering form systems will generate a report flagging tests ordered and not attended (outstanding action list) | M6: 2 | N6: =H6*J6*M6 -> 16 | O6: Yes | P6: If a woman fails to follow up and presents RhD negative RhD Ig should be recommended. If antibodies are identified referral as required and anti-D titres to monitor. These processes to be incorporated into clinical guidance, flow pathways and education resources developed Current standard of care pathway | Q6: SC | R6: 45231 | S6: The follow up management for later than usual blood group and antibody screen incorporated into flow pathways and includes management where the RHD test cannot be completed. | T6: 4 | U6: 2 | V6: 2 | W6: =T6*U6*V6 -> 16 | X6: Yes
A7: ='2. Process Map'!A10:B10 -> Software - electronically May be manual (fax, email etc) | B7: 4 | C7: ='2. Process Map'!D10 -> Test reported | D7: ='2. Process Map'!E10 -> May be directly resulted back to the requestor if software installed | E7: Yes | F7: Test result may not be sent, lost or requestor details may not be included for reporting purposes Requestor may have transferred care and new care provider does not receive report - antenatal serology may not be transferred to new care provider when available or if care transferred before results May be reported incorrectly Requestor may not have secure send option and result may be lost | G7: Unable to determine whether the woman is RhD negative if no historical blood group, or if antibodies present. Will require a repeat test if unable to locate report. May need to follow up report resulting in increased time on clinical load RhD Ig may be required if report is not located and RHD NIPT testing is no longer an option due to time | H7: 3 | I7: Lack of interface between laboratory and clinical software and reporting/documentation Pregnant woman are frequently transferred to antenatal care providers from the initial care provider and may not have shared care model | J7: 5 | K7: Request for another test to be completed Hand-held records - the woman may have a copy from a previous pregnancy Historical blood group may be documented Software installed in clinical care systems that provide reports directly | L7: Ensuring follow up with clinical care provider to flag chase up of the report secure send reducing lost reports | M7: 2 | N7: =H7*J7*M7 -> 30 | O7: Yes | P7: Include instructions and guidance for clinicians if no results available, reorder and if results delayed beyond 24 weeks for RhD negative recommend RhD Ig and monitor for antibodies providing context of the need to complete blood group and antibody screen early in pregnancy. Include the initial blood test as a step in the RHD NIPT process | Q7: SC | R7: 45231 | T7: 3 | U7: 5 | V7: 2 | W7: =T7*U7*V7 -> 30 | X7: No | Y7: Identified that the current mitigation strategies are insufficient to reduce a common problem that increases cost and time and duplication of tests. Consider recommending the inclusion of results in the My Health Record to improve accessibility
A8: ='2. Process Map'!A11:B11 -> Human and Method | B8: 5 | C8: ='2. Process Map'!D11 -> Woman identified as RhD negative woman | D8: ='2. Process Map'!E11 -> Includes only women who are RhD negative, no antibodies and not a weak D or variant D | E8: Yes | F8: Report could be misinterpreted, anti-D antibodies may be missed, may be later than 24 weeks. May be a weak D or variant D May have antibodies that are not anti-D antibodies | G8: May misinterpret the results and may miss clinically significant antibodies and potential for HDFN or delay in order for RHD NIPT/RHD NIPT for women with antibodies RHD NIPT may not be suitable or result in a not reported or inconclusive result May result in confusion for further management May mis RhD Ig | H8: 6 | I8: Lack of understanding of the RhD blood group system and HDFN Busy clinician not reading report correctly or understanding indications for further testing for RHD NIPT or NIPA Lack of understanding/misinterpretation | J8: 1 | K8: Resources to guide clinicians with test inclusion requirements RhD Ig for women where RhD fetal status not completed or monitoring of antibody levels if antibodies present. Promote indication for RHD NIPT and NIPA and decision making tools to assist with correct test being ordered. Pathology support through reporting meaningful results with interpretation to assist clinician understanding | L8: Consumer engagement and education may identify incorrect management pathway Results are not available in time and the women may ask what her results are? Repeat Ab levels recommended for 26-28 weeks Software that flags outstanding test requests. | M8: 2 | N8: =H8*J8*M8 -> 12 | O8: Yes | P8: Ensure adequate education and resources available which describe the indications for RHD testing and referral for weak D, variants and antibodies Target consumers, clinical care providers and laboratory staff for education and resources to guide decisions | Q8: SC | R8: 45231 | S8: Consider inclusion of education that may raise awareness of weak D and Variants frequency based on ethnicity Linking of alternate pathways for antibodies and variant/weak D if indicated (Red Cross Lifeblood information sheets and request forms for red cell genotyping and anti-D) | T8: 6 | U8: 1 | V8: 2 | W8: =T8*U8*V8 -> 12 | X8: Yes
A9: ='2. Process Map'!A12:B12 -> Human | B9: 6 | C9: ='2. Process Map'!D12 -> Woman follows up clinical care provider | D9: ='2. Process Map'!E12 -> This may be the initial care provider or another | E9: Yes | F9: Women may not follow up, women may have transferred care to another clinical care provider and report may not be available, requestor may not be able to locate report results Sensitising event resulting in development of antibodies | G9: Clinical care provider may need to chase up report and if lost reorder increased time spent locating report or the need to reorder delaying RHD NIPT opportunity Women may have anti-D antibodies and require referral May not receive the necessary care to prevent HDFN | H9: 6 | I9: Financial or socioeconomic constraints for the woman Common that there are multiple care providers with limited interface with reporting and reduced access to results | J9: 3 | K9: Shared care and continuity of care models, potential direct report send if completed by certain pathology service, services to support vulnerable groups | L9: Refer vulnerable women early if at risk for failure to follow up Hand held records containing contact of care providers and tests completed/results | M9: 2 | N9: =H9*J9*M9 -> 36 | O9: Yes | P9: Seek current access of reports available through my refugee services etc to determine best opportunity to identify opportunities to increase follow up | Q9: SC | R9: 45231 | T9: 6 | U9: 3 | V9: 2 | W9: =T9*U9*V9 -> 36 | X9: No | Y9: Identified that the current mitigation strategies are insufficient to reduce a common problem that increases cost and time and duplication of tests. Consider recommending the inclusion of results in the My Health Record to improve accessibility
A10: ='2. Process Map'!A13:B13 -> Human and Materials | B10: 7 | C10: ='2. Process Map'!D13 -> Information provision RHD NIPT Testing | D10: ='2. Process Map'!E13 -> RHD negative women with no antibodies provided information on available options and risks/benefits of each May or may not choose recommended care - may decline RHD NIPT | E10: Yes | F10: Women may be given incorrect information, women may not understand the information, may be in language not spoken, clinical care provider may not be familiar with the RHD NIPT test, care provider may be unaware of resources available or how to access the information | G10: Information not provided or incorrect information provided Women may decline RHD NIPT test if they associate with other NIPT testing and have strong religious or personal beliefs against NIPT test for genetic anomalies/cost concerns etc. Woman may not have adequate information to make decision or be involved in the decision-making process Women may not understand the indication and intention of the test or concern of cost associated | H10: 4 | I10: Care provider unaware of available resources, unable to locate the information or disagrees with informed decision making principles NESB - inability to access translated resources Information maybe disregarded if there is limited consideration of cultural sensitivities in information development Resources may be too complex or too much and may be information overload for the woman | J10: 2 | K10: Early consultation with consumer groups and representatives of CALD services Availability and ease of understanding - user friendly/lay language. | L10: Ensure engagement with key stakeholders early to seek feedback on resources and how best to promote the information resources Ensure significant feedback in resource development stages to enable meaningful and quality resources are developed Review of resources for cultural sensitivity and plain language Clinicians allowing adequate time to proc=vide information and assess whether the information has been clearly understood | M10: 1 | N10: =H10*J10*M10 -> 8 | O10: Yes | P10: Need to further circulate resources for consumers - Redcross, CALD support services, Aboriginal and Torres Strait Islander Services and Refugee services Red Cross Lifeblood reviewing resources for plain language PO PM to consider potential for CALD training to improve information and education for CALD consumers | Q10: SC | R10: 45231 | S10: Require further ongoing review to optimise meaningful and easily accessible materials | T10: 4 | U10: 2 | V10: 1 | W10: =T10*U10*V10 -> 8 | X10: Yes | Y10: Consideration of translation of resources in languages frequently required.
A11: ='2. Process Map'!A14:B14 -> Human and or Software | B11: 8 | C11: ='2. Process Map'!D14 -> Request Form RHD NIPT | D11: ='2. Process Map'!E14 -> Must be collected between 12-24 weeks Must be on form approved by RHD NIPT Test provider Weak or variant D may require referral for RHD NIPA through the Red cell reference Lab | E11: Yes | F11: May be later than the 24 week period, The incorrect form may be utilised. Women may decline due to lack of information regarding the purpose or intent of the test (i.e. genetic NIPT association) | G11: Women may be referred for the incorrect test or not be provided a request for RHD NIPT. This may lead to increased use of RhD Ig or additional costs for women referred incorrectly. Incorrect form may require the pathology service to contact the requestor or the test may be cancelled Delays in testing may mean that women will be recommended RHD NIPT to reduce dose at 34 weeks if indicated but will reduce the cost effectiveness and reduced exposure to unnecessary blood products. Increased cost and reduced effectiveness of the RHD NIPT test on the reduction of RhD Ig utilisation | H11: 3 | I11: Lack of understanding of the RhD blood system. Introduction of the RHD NIPT creating significant change of practice. If multiple providers there may be confusion around the correct form Women associating RHD NIPT with NIPT for genetic anomalies or fear of a cost association. Previous issues with blood group and antibody screening tests or late attendance may delay beyond 24 weeks Inability to access information in language spoken | J11: 2 | K11: Ensure adequate education, information and consultation Consultation with clinical care providers to enable quality of resources feedback Posters to flag the availability of RHD NIPT to consumers and request the test if not offered. Development of clinical guidance documents to support consumer information and informed consent Development of a consumer interactive flow pathway tool so that consumers are provided an opportunity to seek information on the test, eligibility and determine best care Interactive flow pathway to direct clinical care providers to the correct test and form | L11: Ensuring consistency between consumers, clinicians and laboratory staff with resources adapted for all audiences Laboratory staff contact clinical care providers or are available to contact if there is confusion over the correct test to be ordered. | M11: 1 | N11: =H11*J11*M11 -> 6 | O11: Yes | P11: Ensure that there is consistency in information and adequate resources and education with the introduction of the RHD NIPT test and ongoing support beyond implementation. Ensure that there is ability to adapt resources and include examples and requirements of specific test providers | Q11: SC | R11: 45231 | T11: 3 | U11: 2 | V11: 1 | W11: =T11*U11*V11 -> 6 | X11: Yes | Y11: Recommend standard request form or inclusion of additional content that is standardised - ensuring SOPs and resources reflect the need of completing essential information required
A12: ='2. Process Map'!A15:B15 -> Human | B12: 9 | C12: ='2. Process Map'!D15 -> Women attends collection point for sample collection and Sample collected according to sample requirements | D12: ='2. Process Map'!E15 -> Must be a location that provides collection for RHD NIPT May have days for collection to enable transport to processing centre etc. Will need to have knowledge of RHD NIPT test requirements Form, Tube, Patient identification and labelling requirements EDD >12 weeks, correct tube - dedicated to test Must be in correct order of draw | E12: Yes | F12: May be located in a remote area where the test is limited in availability, or centre may not be able to provide RHD NIPT testing Women may attend earlier than 12 weeks or later than 24 weeks Staff may not be trained correctly or not complete the test collection based on the test provider needs (i.e. correct tube) May have incorrect patient details, incorrect form, incorrect tube type, mismatch between sample or tube, EDD may be estimated incorrectly and be < 12 weeks. May not stock the required tube i.e. Streck - or if streck used may not be in correct order of draw Transport limitations | G12: Delays in transport RHD NIPT testing and this may lead to women having to travel Obtaining the correct tube and having the woman represent for collection Sample rejected and requires a recollect or RhD Ig prophylaxis if result not available, additional cost for recollect or additional RhD Ig if not required. Nuance to the woman if recollect required. Costs increased of recollect required or RhD Ig needs to be administered with unknown RHD NIPT outcome/result Incorrect order of draw may result in false or invalid result | H12: 5 | I12: Collection point issues - public holidays, outreach services, service provider inability to provide wider services, cost and time to required to train all laboratory and pathology staff Multiple providers may increase possible variations, incorrect EDD if the EDD has not be calculated correctly Failure to follow SOPs for collection; failure to check patient details on form and tube and with the woman to confirm identity Lack of education | J12: 4 | K12: Well established transport systems for pathology services and existing processes to manage PH etc. Education and resources for correct patient identification and procedure matching, guidelines which include minimum requirements Test guides available at collection points and SOPs | L12: Auditing as part of the routine laboratory process - rejected RHD NIPT testing Strict requirements for acceptance of samples in the current guidelines Clear direction for EDD > 12 weeks on request form | M12: 1 | N12: =H12*J12*M12 -> 20 | O12: Yes | P12: Example forms containing minimum requirements and examples of tubes labelled Inclusion of the RHD NIPT and test requirements in the test guide for the pathology services as soon as testing becomes available. Including requirements in the clinical guide for local adaption to ensure that there is adequate guidance for clinical and laboratory staff | Q12: SC | R12: 45231 | T12: 5 | U12: 4 | V12: 1 | W12: =T12*U12*V12 -> 20 | X12: Yes | Y12: Good understanding of sample and transport requirements Early inclusion of evaluation and auditing processes and ongoing review of process, and where necessary modification.
A13: ='2. Process Map'!A16:B16 -> Human | B13: 10 | C13: ='2. Process Map'!D16 -> Sample sent to specimen reception | D13: ='2. Process Map'!E16 -> May require transport to lab Must be in accordance with provider needs and NPAAC | E13: Yes | F13: Sample may be packed incorrectly, may be lost in transit, may be delayed and expire transport time. Delay in transport reduces expiry of sample | G13: Potential for haemolysis/loss of sample and need to recollect. This increases cost and nuance to the woman. Woman may elect or be required to have RhD Ig prophylactically if time does not permit for retest. Sample may not arrive at processing centre within the expiry time. This will be dependant on the tube type and expiry validation extension for EDTA tubes if they are to be utilised | H13: 3 | I13: Single or small number of providers and therefore likely to require a send away. Failure to follow correct transport and packing instructions. Sample may be sent to wrong area in pathology or left in transport container | J13: 2 | K13: Transport SOPs and NPAAC guidelines to guide packing and send away samples Training and education support for transport and packing Test guides Validation of extended expiry times for EDTA tubes if utliised | L13: This may not be identified until arrival at the processing centre, but should be identified prior to processing at specimen reception if delay occurs prior to this. | M13: 2 | N13: =H13*J13*M13 -> 12 | O13: Yes | P13: Inclusion of transport and sample collection requirements to e adapted for local requirements when the RHD NIPT becomes available. All resources are currently in a generic format that enables local adaption for specific requirements | Q13: SC | R13: 45231 | S13: Clear recommendations and guidance for transport requirements Significant mapping current pathology processes such as registration, transport and send away processes to identify factors which may contribute to sample rejection/loss. | T13: 3 | U13: 2 | V13: 2 | W13: =T13*U13*V13 -> 12 | X13: Yes | Y13: Recommend extension for validation for EDTA tubes beyond 3 days if these are the preferred tube for RHD NIPT Testing Many factors will be dependant on the service provider/s requirements, and therefore generic recommendations that may be adapted, but applicable for all should be included.
A14: ='2. Process Map'!A17:B17 -> Human and Software | B14: 11 | C14: ='2. Process Map'!D17 -> Registered in LIS using RHD NIPT test code | D14: ='2. Process Map'!E17 -> Requires test code to be entered into the system which is unique to to the RHD NIPT | E14: Yes | F14: Incorrect test code entered Insufficient clinical information to assist with determining RHD NIPT test Form does not indicate RHD NIPT as the test being requested | G14: RHD NIPT test incomplete and would require recollect or RhD Ig prophylaxis Specimen reception unsure as to the intended test requested and may need to follow up with requestor | H14: 3 | I14: Failure to correctly check request form or code entered If a generic form is utilised mandatory clinical information missing New test with limited knowledge of its intended use and processes required | J14: 2 | K14: SOPs for test code entry Inclusion of the RHD NIPT as an item of the test library of the provider/s Training and education for clinical, laboratory and collection staff prior to availability for the RHD NIPT test Use of a specific request form LIS updated and validated prior to introduction of RHD NIPT | L14: Checking of the sample request form and the test code to ensure correct code has been entered for the RHD NIPT (standard operating procedure) | M14: 1 | N14: =H14*J14*M14 -> 6 | O14: Yes | P14: Test code to be developed and included in local test guides prior to availability of a test provider Adequate promotion of the test and requirements prior to availability Resource development to guide Laboratory - interactive flow pathway that covers the pathway from specimen entry to result distribution | Q14: SC | R14: 45231 | S14: Clear recommendation for utilising a form that limits misinterpretation or results in confusion of the person ordering the RHD NIPT or registering/processing the sample. | T14: 1 | U14: 1 | V14: 3 | W14: =T14*U14*V14 -> 3 | X14: Yes | Y14: To be incorporated into revised versions of NPAAC Requirements and ANZSBT Guidelines for RHD NIPT
A15: ='2. Process Map'!A18:B18 -> Human and Transportation methods | B15: 12 | C15: Sent to Processing Centre | D15: ='2. Process Map'!E18 -> This may or may not be the first laboratory the sample arrives at. It may need to be transferred from another (referring Lab). | E15: Yes | F15: The sample may be lost between the referring and processing centre, additional step and may delay transport resulting in expiration of sample. May not be transported in correct conditions. Additional risk of sample lost, inadvertently contaminating the sample with extraneous DNA by opening the specimen, or haemolysed due to transport errors. | G15: No testing Specimen recollect RhD Ig may be required if insufficient time to retest | H15: 4 | I15: Lack of training and education Lack of SOPs | J15: 2 | K15: Detailed SOPs Initial and ongoing education and training | L15: Following the specimen reception processes and if necessary the send away for RHD NIPT testing. | M15: 1 | N15: =H15*J15*M15 -> 8 | O15: Yes | P15: Test provider must provide detailed specimen collection and transport information | Q15: SC | R15: 45231 | T15: 4 | U15: 2 | V15: 1 | W15: =T15*U15*V15 -> 8 | X15: Yes | Y15: If ongoing issues - review the total process across all groups involved
A16: ='2. Process Map'!A19:B19 -> Human and software | B16: 13 | C16: ='2. Process Map'!D19 -> Registered in LIS using RHD NIPT test code | D16: ='2. Process Map'!E19 -> Requires Test code for RHD NIPT to be available in the LIS | E16: Yes | F16: May enter incorrect code and sample may be analysed for the incorrect test | G16: Incorrect result available for that test code | H16: 3 | I16: Request form not completed correctly / illegible Human error for test request or code entry | J16: 1 | K16: SOPs For illegible forms follow up with the requestor | L16: or the requestor follow up seeking results | M16: 1 | N16: =H16*J16*M16 -> 3 | O16: Yes | P16: Detailed SOPs Follow up of illegible requests with the requestor Test guides for Laboratories to ensure minimum requirements met and can be checked prior to further referral of samples, including correct test codes. Forms wh9ich clearly indicate RHD NIPT test specimens | Q16: SC | R16: 45231 | T16: 3 | U16: 1 | V16: 1 | W16: =T16*U16*V16 -> 3 | X16: Yes | Y16: Recommend broad consultation when developing or adapting request forms or electronic requests for RHD NIPT
A17: ='2. Process Map'!A20:B20 -> Human | B17: 14 | C17: ='2. Process Map'!D20 -> Checked to ensure meets all requirements for processing | D17: ='2. Process Map'!E20 -> Request form, specimen must match identically and contain unique patient identifiers. Sample must be received within the required time frame from collection as determined by the test provider. Tube not opened | E17: Yes | F17: Sample may have inadvertently been opened prior to arrival Expired sample or haemolysed Minimum patient identifiers not met | G17: Potential for inconclusive result , incorrect result or sample rejection Increased cost, nuance to the women and potential reduced efficiency of the RHD NIPT test if RhD Ig required or a second collection required | H17: 5 | I17: Staff unfamiliar with sample requirements including ensuring samples remain unopened Failure to follow all SOPs | J17: 1 | K17: Education and training on the collection, transport and sample requirements Detailed SOPS pertaining to RHD NIPT testing and RHD NIPT send aways Strict minimum requirements which are checked prior to referral to another Lab | L17: SOPs for specimen receptio9n and data entry | M17: 1 | N17: 10 | O17: Yes | P17: Education and test guide development which includes \detailed SOPS that are regularly reviewed | Q17: SC | R17: 45231 | T17: 5 | U17: 1 | V17: 1 | W17: =T17*U17*V17 -> 5 | X17: Yes | Y17: Dependant on specific requirements for the provider/s but generic versions of resources and guidance documents will be made available for update
A18: ='2. Process Map'!A21:B21 -> Method | B18: 15 | C18: ='2. Process Map'!D21 -> DNA extracted | D18: ='2. Process Map'!E21 -> The fetal DNA must be extracted and this requires a single unopened tube to be sent to preserve DNA stability. The tube must be the preferred tube for the processing site. | E18: Yes | F18: Sample may be collected too early, wrong sample Failure to maintain sample integrity leading to contamination | G18: Sample unsatisfactory and unable to extract DNA for testing. Result in an inconclusive or negative result Either repeat test or mother recommended RhD Ig Prophylaxis | H18: 5 | I18: Inadequate sample or extraction failure whether manual or automated | J18: 1 | K18: Sample collected after 12 weeks gestation Use of validated manual or automated DNA extraction technique Detailed SOPs | L18: Test failures Increased incidence of inconclusive results above the expected number Increased number of RhD negative fetus well above the expected frequency of RhD negative blood type | M18: 1 | N18: =H18*J18*M18 -> 5 | O18: Yes | P18: Training, education and SOPs and understanding of stringent specimen handling requirements | Q18: SC | R18: 45231 | T18: 5 | U18: 1 | V18: 1 | W18: =T18*U18*V18 -> 5 | X18: Yes | Y18: Regular review based on risk assessment
A19: ='2. Process Map'!A22:B22 -> Analyser Equipment and Kits | B19: 16 | C19: ='2. Process Map'!D22 -> Sample Analysis | D19: ='2. Process Map'!E22 -> The sample is run through the analyser and result generated. The result is then reviewed by a second scientist prior to report completion | E19: Yes | F19: Analyser may break-down or report an incorrect result | G19: Unable to provide a result Incorrect result | H19: 5 | I19: Instrument failure Poor maintenance of equipment | J19: 1 | K19: Regular and preventative maintenance of instrument, quality control and quality assurance | L19: Positive and negative control failure Increased discrepancy between RHD NIPT and cord results | M19: 1 | N19: =H19*J19*M19 -> 5 | O19: Yes | P19: Analysing equipment will need to be validated and accredited by NATA to ensure that the equipment is maintained and meets minimum specificity and sensitivity requirements Documented QC and QA programs | Q19: SC | R19: 45231 | S19: Clear guidance and SOPs to manage breakdowns | T19: 5 | U19: 1 | V19: 1 | W19: =T19*U19*V19 -> 5 | X19: Yes | Y19: Ensure Haemovigilance reporting systems are capable of identifying trends for cord discrepancy to flag potential issues as soon as possible
A20: ='2. Process Map'!A23:B23 -> Analyser and Software | B20: 17 | C20: ='2. Process Map'!D23 -> Result Report and distribution | D20: ='2. Process Map'!E23 -> Result reported as one of 4 options Not reported - no result can be provided as requirements not met Inconclusive - a number of samples will not provide a result which is confident. This may be due to a D variant or EDD < 12 weeks RhD Negative - fetus is predicted to be RhD negative RhD Positive - Fetus is predicted to be RhD positive | E20: Yes | F20: Technical - Incorrect result Results associated with incorrect patient | G20: Women may be provided incorrect management leading to either increased risk of sensitisation or unnecessary RhD Ig | H20: 7 | I20: Incorrect review or electronic data transfer | J20: 1 | K20: Proper use and review of a validated transfer system | L20: Review of results and correlation of the RHD NIPT and Cord results | M20: 1 | N20: =H20*J20*M20 -> 7 | O20: Yes | P20: Local SOP to include second reviewer to reduce possible errors in results Incorporating cord blood validation with RHD NIPT introduction Equipment validation for IT systems | Q20: SC | R20: 45231 | T20: 7 | U20: 1 | V20: 1 | W20: =T20*U20*V20 -> 7 | X20: Yes
A21: ='2. Process Map'!A24:B24 -> Human | B21: 18 | C21: ='2. Process Map'!D24 -> Follow up management based on result; Determine whether RhD Ig prophylaxis is required. All women will require a repeat Ab screen at 28 weeks regardless. | D21: ='2. Process Map'!E24 -> RhD negative - no RhD Ig required RhD positive, inconclusive or not reported - RhD Ig recommended. For sendaways copies of the report must be sent to the referring laboratory and requesting clinician. Where care has been transferred from the requesting clinician, a copy of the RHD NIPT report should be provided to referred clinical care provider | E21: Yes | F21: Result may be lost, result may be misinterpreted or not reported Inaccessible reports or results unable to be delivered | G21: Unnecessary or omitted use of RhD Ig May require a specimen recollect Decreased efficiencies due to follow up of missing reports | H21: 7 | I21: Electronic reporting failure Hard copy reporting failure Misinterpretation of the results due to lack of education and support Complex shared clinical pathways Transcription errors of results Failed delivery of hard copy | J21: 6 | K21: Appropriate commentary in relation to the result and recommended management Education and training targeted to reporting and follow up management Validated and reliable electronic and manual reporting systems Validated transport systems | L21: Increased number of queries/complaints relating to delayed or lack of availability of reports | M21: 2 | N21: =H21*J21*M21 -> 84 | O21: No | P21: Regular feedback from requestors and appropriate corrective actions Regular audits of the reporting system Education and training | Q21: Clinical care providers and Laboratories | R21: Ongoing | S21: Regular review to demonstrate accuracy and reliability of the reporting system | T21: 7 | U21: 6 | V21: 2 | W21: =T21*U21*V21 -> 84 | X21: No | Y21: Use of universal electronic medical record such as the My Health Record
A22: ='2. Process Map'!A25:B25 -> Human and Method for collection of sample | B22: 19 | C22: ='2. Process Map'!D25 -> Testing of Cord Blood Sample collected to validate RHD NIPT test result | D22: ='2. Process Map'!E25 -> Correct collection process followed, including the correct labelling to confirm identity of the cord blood samples Correct ABO/RhD testing of the cord blood sample | E22: Yes | F22: Incorrect identification of the maternal or cord blood samples Incorrect RHD NIPT testing Incorrect or missed ABO/RhD testing of the cord blood | G22: Inappropriate, unnecessary or omitted use of RhD Ig | H22: 7 | I22: Failure to follow SOPs - identification, collection or technical failure Reporting error | J22: 1 | K22: Training and education of all staff involved in collection, testing and reporting of RHD NIPT and cord blood ABO/RhD groups. cord blood samples Authorisation of RHD NIPT results prior to release Checking of cord blood results against RHD NIPT | L22: Review of results to identify lack of correlation between RHD NIPT and ABO/RhD cord blood results Review of haemovigilance reporting to identify trends in in mismatched reporting | M22: 2 | N22: =H22*J22*M22 -> 14 | O22: Yes | P22: Recommendation to include cord sample collection as part of the validation process in the implementation phase until clear evidence or accurate results Haemovigilance reporting resources to identify capturing of cord sample and RHD NIPT discrepancies | Q22: SC | R22: 45231 | S22: Development of Haemovigilance resources and guidance to promote identification of discordant results and guide management to reduce further issues | T22: 7 | U22: 1 | V22: 2 | W22: =T22*U22*V22 -> 14 | X22: Yes | Y22: Recommend haemovigliance reporting requirements to include cord blood discrepancy and include the best practice in the ANZSBT and NPAAC Documents

Sheet Appendix - Risk Definitions
A1: FMEA Rating Definitions Table
A2: Rating | B2: Severity | C2: Likelihood of Occurrence | D2: Possibility of Detection
A3: 10 | B3: Hazardous without Warning • May endanger machine or operator • Affects safe operation of product/production and/or involves non-compliance with government regulations • Failure will occur without warning. | C3: Very High Failure is highly likely to occur (perceived as inevitable) ≥1 in 2 | D3: Almost impossible No known controls available to detect potential cause and subsequent failure mode.
A4: 9 | B4: Hazardous with Warning • May endanger machine or operator • Affects safe operation of product/production and/or involves non-compliance with government regulations • Failure will occur with warning. | C4: Very High Failure is highly likely to occur (perceived as inevitable) 1 in 3 | D4: Very remote likelihood that current controls will detect a potential cause and subsequent failure mode.
A5: 8 | B5: Very High • Major disruption to production • 100% of production may have to be scrapped • Product/equipment inoperable, without primary function • Customer very dissatisfied. | C5: High Generally associated with processes similar to previous processes that have often failed (i.e. repeated failures). 1 in 8 | D5: Remote likelihood that current controls will detect a potential cause and subsequent failure mode.
A6: 7 | B6: High • Minor disruption to production • Production may have to be sorted and a portion (<100%) scrapped • Product/equipment operable but at significantly reduced level of performance, that is, only primary function(s) operable • Customer dissatisfied. | C6: High Generally associated with processes similar to previous processes that have often failed (i.e. repeated failures). 1 in 20 | D6: Very low likelihood that current controls will detect a potential cause and subsequent failure mode.
A7: 6 | B7: Moderate • Minor disruption to production • Production may have to scrap a portion of the product (<100%) - no sorting • Product/equipment operable, but at reduced level of performance (some secondary functions inoperable) • Customer dissatisfied. | C7: Moderate Generally associated with processes similar to previous processes that have experienced occasional failures, but not in major proportions (i.e. occasional failures). 1 in 80 | D7: Low likelihood that current controls will detect a potential cause and subsequent failure mode.
A8: 5 | B8: Low • Minor disruption to production • 100% of production may have to be re-worked • Product/equipment operable, but at slightly reduced level of performance • Some customers dissatisfied. | C8: Moderate Generally associated with processes similar to previous processes that have experienced occasional failures, but not in major proportions (i.e. occasional failures). 1 in 400 | D8: Moderate likelihood that current controls will detect a potential cause and subsequent failure mode.
A9: 4 | B9: Very Low • Minor disruption to production • Production may have to be sorted and a portion (<100%) re-worked • Minor non-conformance to production specifications • Defect noticed by average customer. | C9: Moderate Generally associated with processes similar to previous processes that have experienced occasional failures, but not in major proportions (i.e. occasional failures). 1 in 2,000 | D9: Moderately high likelihood that current controls will detect a potential cause and subsequent failure mode.
A10: 3 | B10: Minor • Minor disruption to production • A portion of production may have to be re-worked (<100%) - on-line • Minor non-conformance to production specifications • Defect noticed by average customer. | C10: Low Isolated failures associated with similar processes (i.e. relatively few failures). 1 in 15,000 | D10: High likelihood that current controls will detect a potential cause and subsequent failure mode.
A11: 2 | B11: Very Minor • Minor disruption to production • A portion of production may have to be re-worked (<100%) - on-line • Minor non-conformance to production specifications • Defect noticed by discriminating customer. | C11: Very Low Only isolated failures associated with almost identical processes. 1 in 150,000 | D11: Very high likelihood that current controls will detect a potential cause and subsequent failure mode.
A12: 1 | B12: None No effect | C12: Remote Failure is unlikely. No failures ever associated with almost identical processes. 1 in 1,500,000 | D12: Almost certain Current controls almost certain to detect the failure mode. Reliable detection controls exists for similar processes.
